BEGIN:VCALENDAR
VERSION:2.0
PRODID:-//ChamberMaster//Event Calendar 2.0//EN
METHOD:PUBLISH
X-PUBLISHED-TTL:P3D
REFRESH-INTERVAL:P3D
CALSCALE:GREGORIAN
BEGIN:VEVENT
DTSTART:20250728T223000Z
DTEND:20250729T013000Z
X-MICROSOFT-CDO-ALLDAYEVENT:FALSE
SUMMARY:Bastrop County Republican Party ~ Monthly Informational Meeting
DESCRIPTION:The Bastrop County Republican Party hosts Monthly Informational Meetings on a variety of topics and speakers of interest to Bastrop County\, the State of Texas and the United States of America.  Our meetings are held the 4th Monday of every month at 6PM\, except for those conflicting with National Holidays such as 4th of July\, Christmas or New Years that may also fall on the 4th Monday.   Please join us\, come early to get a good seat.  \n\n\n\nFor additional Details please visit our website link to Monthly Informational Meetings \n\n\n\nFor other events\, meetings and contact information please visit WWW.BastropCtyGOP.com
X-ALT-DESC;FMTTYPE=text/html:The Bastrop County Republican Party hosts Monthly Informational Meetings on a variety of topics and speakers of interest to Bastrop County\, the State of Texas and the United States of America. &nbsp\;Our meetings are held the 4th Monday of every month at 6PM\, except for those conflicting with National Holidays such as 4th of July\, Christmas or New Years that may also fall on the 4th Monday. &nbsp\; Please join us\, come early to get a good seat. &nbsp\;<br />\n<br />\nFor additional Details please visit our website link to <a href="https://www.bastropctygop.com/category/info-mtgs/">Monthly Informational Meetings</a>&nbsp\;<br />\n<br />\nFor other events\, meetings and contact information please visit <a href="https://www.bastropctygop.com/">WWW.BastropCtyGOP.com</a>
LOCATION:443 Hiway 71 West Bastrop\, Texas (next to Harbor Freight)
UID:e.2762.9630
SEQUENCE:3
DTSTAMP:20260422T035249Z
URL:https://business.smithvilletx.org/events/details/bastrop-county-republican-party-monthly-informational-meeting-9630
END:VEVENT

END:VCALENDAR
