BEGIN:VCALENDAR
VERSION:2.0
PRODID:-//ChamberMaster//Event Calendar 2.0//EN
METHOD:PUBLISH
X-PUBLISHED-TTL:P3D
REFRESH-INTERVAL:P3D
CALSCALE:GREGORIAN
BEGIN:VEVENT
DTSTART:20170916T233000Z
DTEND:20170917T020000Z
X-MICROSOFT-CDO-ALLDAYEVENT:FALSE
SUMMARY:Bastrop County Republican Party Fundraiser
DESCRIPTION:BOOTS & BARBECUE FUNDRAISER https://www.eventbrite.com/e/bastrop-county-republican-party-fundraiser-tickets-36163319462 Contact: Dianna Greenwood (330) 418-9164 or dlgreenwood89@gmail.com
X-ALT-DESC;FMTTYPE=text/html:BOOTS &amp\; BARBECUE FUNDRAISER https://www.eventbrite.com/e/bastrop-county-republican-party-fundraiser-tickets-36163319462 Contact: Dianna Greenwood (330) 418-9164 or dlgreenwood89@gmail.com
LOCATION:The Mansion at ColoVista 100 Country Club Dr Bastrop\, TX 78602
UID:e.2762.4423
SEQUENCE:3
DTSTAMP:20260424T033953Z
URL:https://business.smithvilletx.org/events/details/bastrop-county-republican-party-fundraiser-4423
END:VEVENT

END:VCALENDAR
