BEGIN:VCALENDAR
VERSION:2.0
PRODID:-//ChamberMaster//Event Calendar 2.0//EN
METHOD:PUBLISH
X-PUBLISHED-TTL:P3D
REFRESH-INTERVAL:P3D
CALSCALE:GREGORIAN
BEGIN:VEVENT
DTSTART:20240115T160000Z
DTEND:20240115T190000Z
X-MICROSOFT-CDO-ALLDAYEVENT:FALSE
SUMMARY:Bastrop County MLK Day 2024
DESCRIPTION:Monday\, January 15\, 2024\, at 10AM in Smithville\, TX.\n\nThe walk will begin at MLK Park\, located at 1101 MLK Drive.  The Hon. Sharon Foerster\, Mayor of Smithville will provide the welcome prior to the walk which will then proceed to Mt. Pilgrim Baptist Church and Mary A. Brown Primary School.\n\nThe program will begin at 11AM at the Smithville Recreation Center\, located at 106 Royston St.\n\nFor more information please go to www.BastropCountyMLKDay.com.
X-ALT-DESC;FMTTYPE=text/html:<p style="box-sizing: border-box\; margin: 0px 0px 10px\; color: rgb(41\, 41\, 41)\; font-family: Montserrat\, sans-serif\; font-size: 16px\; background-color: rgb(255\, 255\, 255)\; text-align: center\;">Monday\, January 15\, 2024\, at 10AM in Smithville\, TX.</p>\n\n<p style="box-sizing: border-box\; margin: 0px 0px 10px\; color: rgb(41\, 41\, 41)\; font-family: Montserrat\, sans-serif\; font-size: 16px\; background-color: rgb(255\, 255\, 255)\; text-align: center\;">The walk will begin at MLK Park\, located at 1101 MLK Drive.&nbsp\; The Hon. Sharon Foerster\, Mayor of Smithville will provide the welcome prior to the walk which will then proceed to Mt. Pilgrim Baptist Church and Mary A. Brown Primary School.</p>\n\n<p style="box-sizing: border-box\; margin: 0px 0px 10px\; color: rgb(41\, 41\, 41)\; font-family: Montserrat\, sans-serif\; font-size: 16px\; background-color: rgb(255\, 255\, 255)\; text-align: center\;">The program will begin at 11AM at the Smithville Recreation Center\, located at 106 Royston St.</p>\n\n<p style="box-sizing: border-box\; margin: 0px 0px 10px\; color: rgb(41\, 41\, 41)\; font-family: Montserrat\, sans-serif\; font-size: 16px\; background-color: rgb(255\, 255\, 255)\; text-align: center\;">For more information please go to www.BastropCountyMLKDay.com.</p>\n
LOCATION:Walk begins at MLK Park\, located at 1101 MLK Drive at 10am. Program begins at the Smithville Rec Center\, located at 106 Royston St. at 11am.
UID:e.2762.8698
SEQUENCE:3
DTSTAMP:20260422T183942Z
URL:https://business.smithvilletx.org/events/details/bastrop-county-mlk-day-2024-8698
END:VEVENT

END:VCALENDAR
