BEGIN:VCALENDAR
VERSION:2.0
PRODID:-//ChamberMaster//Event Calendar 2.0//EN
METHOD:PUBLISH
X-PUBLISHED-TTL:P3D
REFRESH-INTERVAL:P3D
CALSCALE:GREGORIAN
BEGIN:VEVENT
DTSTART:20250508T223000Z
DTEND:20250509T000000Z
X-MICROSOFT-CDO-ALLDAYEVENT:FALSE
SUMMARY:B.E.S.T. Countywide Mixer
DESCRIPTION:The Annual B.E.S.T. Countywide Mixer is a celebration of the cooperative efforts and successes of the Bastrop*Elgin*Smithville*Texas Chambers. It will be an incredible night of fun\, fellowship and networking for the membership of the three chambers that make up the B.E.S.T. Leadership in the state.
X-ALT-DESC;FMTTYPE=text/html:<p style="box-sizing: border-box\; margin: 0px 0px 1rem\; outline: 0px\; color: rgb(69\, 75\, 89)\; font-family: Lato\, sans-serif\; font-size: 16px\; background-color: rgb(255\, 255\, 255)\;"><span style="box-sizing: border-box\; outline: 0px\; font-size: 18px\;">The Annual B.E.S.T. Countywide Mixer is a celebration of the cooperative efforts and successes&nbsp\;of the Bastrop*Elgin*Smithville*Texas Chambers. It will be an incredible night of fun\, fellowship and networking for the membership of the three chambers that make up the B.E.S.T. Leadership in the state.</span></p>\n\n<div>&nbsp\;</div>\n
LOCATION:The Boring Bodega 865 FM 1209 Bastrop TX 78602
UID:e.2762.9194
SEQUENCE:3
DTSTAMP:20260421T100319Z
URL:https://business.smithvilletx.org/events/details/b-e-s-t-countywide-mixer-9194
END:VEVENT

END:VCALENDAR
