BEGIN:VCALENDAR
VERSION:2.0
PRODID:-//ChamberMaster//Event Calendar 2.0//EN
METHOD:PUBLISH
X-PUBLISHED-TTL:P3D
REFRESH-INTERVAL:P3D
CALSCALE:GREGORIAN
BEGIN:VEVENT
DTSTART:20221112T160000Z
DTEND:20221112T210000Z
X-MICROSOFT-CDO-ALLDAYEVENT:FALSE
SUMMARY:Airing of the Quilts
DESCRIPTION:FREE EVENT!\n\n\n\nCome take a walk along our historic Main St\, view the beautiful quilts that are hung on Main St and all-around town. Shop and get a bite to eat at one of our local restaurants. \nMANY THANKS TO OUR SPONSORS!\n\n\n\nTITLE SPONSOR: Aqua Water Supply Corporation\n\n\n\nANNUAL SPONSORS:  Kragh's Jewelry Retail & Repair\, Towers Nursing Home\, Doug's Plumbing\, Lost Pines Toyota\, First National Bank\, Bluebonnet Electric Cooperative\, Marrs-Jones Funeral Home All Faiths of the Pines\, WJC Constructors\, Lori Tuggle\, State Farm\, Aqua Water Supply\, Calbri Road & Bridge\, LLC\, Lower Colorado River Authority and Roscoe State Bank
X-ALT-DESC;FMTTYPE=text/html:<span style="font-size: 18px\;"><span style="color: rgb(255\, 0\, 0)\;"><strong>FREE EVENT!</strong></span></span><br />\n<br />\nCome take a walk along our historic Main St\, view the beautiful quilts that are hung on Main St and all-around town. Shop and get a bite to eat at one of our local restaurants.&nbsp\;\n<p style="margin: 0in 0in 0pt\; text-align: justify\;"><strong>MANY THANKS TO OUR SPONSORS!<br />\n<br />\nTITLE SPONSOR: Aqua Water Supply Corporation</strong><br />\n<br />\n<strong style="color: rgb(51\, 51\, 51)\; font-family: sans-serif\, Arial\, Verdana\, &quot\;Trebuchet MS&quot\;\; font-size: 13px\;">ANNUAL SPONSORS:&nbsp\;&nbsp\;Kragh&#39\;s Jewelry Retail &amp\; Repair\, Towers Nursing Home\, Doug&#39\;s Plumbing\, Lost&nbsp\;Pines Toyota\, First National Bank\, Bluebonnet Electric Cooperative\,&nbsp\;Marrs-Jones Funeral Home All Faiths of the Pines\, WJC Constructors\, Lori Tuggle\, State Farm\, Aqua Water Supply\, Calbri Road &amp\; Bridge\, LLC\, Lower Colorado River Authority and Roscoe State Bank</strong></p>\n
LOCATION:Main Street Smithville\, TX
UID:e.2762.8335
SEQUENCE:3
DTSTAMP:20260424T061102Z
URL:https://business.smithvilletx.org/events/details/airing-of-the-quilts-11-12-2022-8335
END:VEVENT

END:VCALENDAR
