BEGIN:VCALENDAR
VERSION:2.0
PRODID:-//ChamberMaster//Event Calendar 2.0//EN
METHOD:PUBLISH
X-PUBLISHED-TTL:P3D
REFRESH-INTERVAL:P3D
CALSCALE:GREGORIAN
BEGIN:VEVENT
DTSTART:20260502T150000Z
DTEND:20260502T200000Z
X-MICROSOFT-CDO-ALLDAYEVENT:FALSE
SUMMARY:Airing of the Quilts
DESCRIPTION:Step into a celebration of color\, craftsmanship\, and community at Bastrop County's Airing of the Quilts. Inspired by the traditional springtime practice of airing quilts\, this event features a beautiful collection of historic and modern quilts from across the county.\n\nDisplayed in the charming settings of Calvary Episcopal Church and the Bastrop County Museum & Visitor Center\, each quilt tells a unique story woven from family history\, creativity\, and the shared heritage of Bastrop County.\n\nWhether you're planning a day out with friends\, a meaningful family outing\, or simply love the art of quilting\, this free event offers a welcoming and memorable way to experience Bastrop's small-town charm.
X-ALT-DESC;FMTTYPE=text/html:<p><span style="background-color:transparent\; color:rgb(0\, 0\, 0)\; font-family:average\,serif\; font-size:11pt">Step into a celebration of color\, craftsmanship\, and community at Bastrop County&rsquo\;s Airing of the Quilts. Inspired by the traditional springtime practice of airing quilts\, this event features a beautiful collection of historic and modern quilts from across the county.</span></p>\n\n<p><span style="background-color:transparent\; color:rgb(0\, 0\, 0)\; font-family:average\,serif\; font-size:11pt">Displayed in the charming settings of Calvary Episcopal Church and the Bastrop County Museum &amp\; Visitor Center\, each quilt tells a unique story woven from family history\, creativity\, and the shared heritage of Bastrop County.</span></p>\n\n<p><span style="background-color:transparent\; color:rgb(0\, 0\, 0)\; font-family:average\,serif\; font-size:11pt">Whether you&rsquo\;re planning a day out with friends\, a meaningful family outing\, or simply love the art of quilting\, this free event offers a welcoming and memorable way to experience Bastrop&rsquo\;s small-town charm.</span></p>\n
LOCATION:Bastrop County Museum & Visitor Center 904 Main Street Bastrop\, Texas 78602
UID:e.2762.12753
SEQUENCE:3
DTSTAMP:20260422T070549Z
URL:https://business.smithvilletx.org/events/details/airing-of-the-quilts-05-02-2026-12753
END:VEVENT

END:VCALENDAR
