BEGIN:VCALENDAR
VERSION:2.0
PRODID:-//ChamberMaster//Event Calendar 2.0//EN
METHOD:PUBLISH
X-PUBLISHED-TTL:P3D
REFRESH-INTERVAL:P3D
CALSCALE:GREGORIAN
BEGIN:VEVENT
DTSTART:20250614T160000Z
DTEND:20250614T190000Z
X-MICROSOFT-CDO-ALLDAYEVENT:FALSE
SUMMARY:AgeSmart Expo - Fayette Memorial Funeral Home & Crematory
DESCRIPTION:Please join us June 14\, 2025\, as we host our first annual Health Fair & Living Well Expo. Fayette Memorial Funeral Home\, along with up to 25 local businesses\, would like everyone to come out and see what our wonderful community has to offer.\n\nOur goal is to educate everyone on healthy livingin all aspects of life including medical\, financial\, and physical. Your booth rental fee will go towards marketing and advertising for the event. There will be light snacks available inside the gymnasium\, as well as the Sweet Tea Cafe food truck available in the parking lot for those who would like a little something more.\n\nWe are including an application form. Please fill it outindicating what you would like to showcase in your booth or for your group and return it to us via email\, mail\, or give us a call at (979) 968-9595 and we will happily pick it up. If you'd like to present demonstrations that would also be great. Prizes\, drawings and giveaways are also encouraged. Booth payments can be made by check\, cash\, or money order only and returned with your application.
X-ALT-DESC;FMTTYPE=text/html:<span style="color:#212123\;">Please join us June 14\, 2025\, as we host our first annual Health Fair &amp\; Living Well Expo. Fayette Memorial Funeral Home\, along with up to 25 local businesses\, would like everyone to come out and see what our wonderful community has to offer.</span><br />\n<span style="color:#212123\;">Our goal is to educate everyone on healthy livingin all aspects of life including med</span><span style="color:#3F3F41\;">i</span><span style="color:#212123\;">cal\, </span><span style="color:#212123\;">financial\, and physical. Your booth rental fee will go towards marketing and advertising for the event. There will be light snacks available inside the gymnasium\, as well as the Sweet Tea Cafe food truck available in the parking lot for those who would like a little something <span style="letter-spacing:-.1pt\;">more.</span></span><br />\n<span style="color:#212123\;">We are including an application form. Please fill it outindicating what you would like to <span style="letter-spacing:-.1pt\;">showcase</span> <span style="letter-spacing:-.1pt\;">in</span> <span style="letter-spacing:-.1pt\;">your</span> <span style="letter-spacing:-.1pt\;">booth</span> <span style="letter-spacing:-.1pt\;">or</span> <span style="letter-spacing:-.1pt\;">for</span> <span style="letter-spacing:-.1pt\;">your</span> <span style="letter-spacing:-.1pt\;">group</span> <span style="letter-spacing:-.1pt\;">and</span> <span style="letter-spacing:-.1pt\;">return</span> <span style="letter-spacing:-.1pt\;">it</span> <span style="letter-spacing:-.1pt\;">to</span> <span style="letter-spacing:-.1pt\;">us</span> <span style="letter-spacing:-.1pt\;">via</span> <span style="letter-spacing:-.1pt\;">email\,</span> <span style="letter-spacing:-.1pt\;">mail\,</span> <span style="letter-spacing:-.1pt\;">or</span> <span style="letter-spacing:-.1pt\;">give</span> <span style="letter-spacing:-.1pt\;">us</span> <span style="letter-spacing:-.1pt\;">a</span> <span style="letter-spacing:-.1pt\;">call at</span> <span style="letter-spacing:-.1pt\;">(979)</span> <span style="letter-spacing:-.1pt\;">968-9595</span> <span style="letter-spacing:-.1pt\;">and</span> <span style="letter-spacing:-.1pt\;">we</span> <span style="letter-spacing:-.1pt\;">will</span> <span style="letter-spacing:-.1pt\;">happily</span> <span style="letter-spacing:-.1pt\;">pick</span> <span style="letter-spacing:-.1pt\;">it</span> <span style="letter-spacing:-.1pt\;">up.</span> <span style="letter-spacing:-.1pt\;">If</span> <span style="letter-spacing:-.1pt\;">you&#39\;d</span> <span style="letter-spacing:-.1pt\;">like</span> <span style="letter-spacing:-.1pt\;">to</span> <span style="letter-spacing:-.1pt\;">present</span> <span style="letter-spacing:-.1pt\;">demonstrations</span> <span style="letter-spacing:-.1pt\;">that </span></span><span style="color:#212123\;">would also be great. Prizes\, drawings and giveaways are also encouraged. Booth payments can be made by check\, cash\, or money order only and returned with your application.</span>
LOCATION:Randolph Recreation Center\, La Grange\, Texas (in the Gym)
UID:e.2762.9365
SEQUENCE:3
DTSTAMP:20260422T050947Z
URL:https://business.smithvilletx.org/events/details/agesmart-expo-fayette-memorial-funeral-home-crematory-9365
END:VEVENT

END:VCALENDAR
