BEGIN:VCALENDAR
VERSION:2.0
PRODID:-//ChamberMaster//Event Calendar 2.0//EN
METHOD:PUBLISH
X-PUBLISHED-TTL:P3D
REFRESH-INTERVAL:P3D
CALSCALE:GREGORIAN
BEGIN:VEVENT
DTSTART:20230311T013000Z
DTEND:20230311T033000Z
X-MICROSOFT-CDO-ALLDAYEVENT:FALSE
SUMMARY:Addams Family the Musical
DESCRIPTION:Addams Family the Musical\n\nDirected by Lisa Holcomb\n\nWednesday Addams\, the ultimate princess of darkness\, has grown up and fallen in love with a sweet\, smart young man from a respectable family  a man her parents have never met. And if that wasn't upsetting enough\, Wednesday confides in her father and begs him not to tell her mother. Now\, Gomez Addams must do something he's never done before  keep a secret from his beloved wife\, Morticia. Everything will change for the whole family on the fateful night they host a dinner for Wednesday's "normal" boyfriend and his parents.
X-ALT-DESC;FMTTYPE=text/html:Addams Family the Musical<br />\nDirected by Lisa Holcomb<br />\nWednesday Addams\, the ultimate princess of darkness\, has grown up and fallen in love with a sweet\, smart young man from a respectable family&ndash\; a man her parents have never met. And if that wasn&rsquo\;t upsetting enough\, Wednesday confides in her father and begs him not to tell her mother. Now\, Gomez Addams must do something he&rsquo\;s never done before&ndash\; keep a secret from his beloved wife\, Morticia. Everything will change for the whole family on the fateful night they host a dinner for Wednesday&rsquo\;s &ldquo\;normal&rdquo\; boyfriend and his parents.&nbsp\;
LOCATION:
UID:e.2762.8489
SEQUENCE:3
DTSTAMP:20260423T234933Z
URL:https://business.smithvilletx.org/events/details/addams-family-the-musical-8489
END:VEVENT

END:VCALENDAR
