BEGIN:VCALENDAR
VERSION:2.0
PRODID:-//ChamberMaster//Event Calendar 2.0//EN
METHOD:PUBLISH
X-PUBLISHED-TTL:P3D
REFRESH-INTERVAL:P3D
CALSCALE:GREGORIAN
BEGIN:VEVENT
DTSTART:20251207T010000Z
DTEND:20251207T030000Z
X-MICROSOFT-CDO-ALLDAYEVENT:FALSE
SUMMARY:34th Annual Festival of Lights Lighted Holiday Parade
DESCRIPTION:The 34th Annual Festival of Lights Lighted Holiday Parade \n\n"A Smithville Toy-Story Christmas"\n\nParade Registration Form
X-ALT-DESC;FMTTYPE=text/html:The 34th Annual Festival of Lights Lighted Holiday Parade&nbsp\;<br />\n&ldquo\;A Smithville Toy-Story Christmas&rdquo\;<br />\n<a href="https://chambermaster.blob.core.windows.net/userfiles/UserFiles/chambers/2762/File/My_folder/FOLParadeRegistration2025.pdf">Parade Registration Form</a>
LOCATION:Downtown Smithville Texas
UID:e.2762.10478
SEQUENCE:3
DTSTAMP:20260421T185310Z
URL:https://business.smithvilletx.org/events/details/34th-annual-festival-of-lights-lighted-holiday-parade-10478
END:VEVENT

END:VCALENDAR
