BEGIN:VCALENDAR
VERSION:2.0
PRODID:-//ChamberMaster//Event Calendar 2.0//EN
METHOD:PUBLISH
X-PUBLISHED-TTL:P3D
REFRESH-INTERVAL:P3D
CALSCALE:GREGORIAN
BEGIN:VEVENT
DTSTART:20251206T160000Z
DTEND:20251206T220000Z
X-MICROSOFT-CDO-ALLDAYEVENT:FALSE
SUMMARY:34th Annual Festival of Lights Holiday Daytime Festivities
DESCRIPTION:Festival of Lights is a beloved holiday tradition in Smithville\, Texas.  There will be an Arts & Crafts Festival held from 10AM to 4PM in the gymnasium at the Smithville Recreation Center\, along with more vendors and family friendly activities in Railroad Park & downtown (intersection of Main Street & 1st Street) \n\nVendor registration has begun.  You can email your questions to chamberstaff@smithvilletx.org
X-ALT-DESC;FMTTYPE=text/html:<p>Festival of Lights is a beloved holiday tradition in Smithville\, Texas.&nbsp\; There will be an Arts &amp\; Crafts Festival held from 10AM to 4PM in the gymnasium at the Smithville Recreation Center\, along with more vendors and family friendly activities in Railroad Park &amp\; downtown (intersection of Main Street &amp\; 1st Street)&nbsp\;</p>\n\n<p>Vendor registration has begun.&nbsp\; You can email your questions to chamberstaff@smithvilletx.org</p>\n\n<p>&nbsp\;</p>\n
LOCATION:Downtown Smithville\, Texas
UID:e.2762.10343
SEQUENCE:3
DTSTAMP:20260421T084622Z
URL:https://business.smithvilletx.org/events/details/34th-annual-festival-of-lights-holiday-daytime-festivities-10343
END:VEVENT

END:VCALENDAR
