BEGIN:VCALENDAR
VERSION:2.0
PRODID:-//ChamberMaster//Event Calendar 2.0//EN
METHOD:PUBLISH
X-PUBLISHED-TTL:P3D
REFRESH-INTERVAL:P3D
CALSCALE:GREGORIAN
BEGIN:VEVENT
DTSTART:20260404T130000Z
DTEND:20260404T200000Z
X-MICROSOFT-CDO-ALLDAYEVENT:FALSE
SUMMARY:2026 Spring Community-Wide Garage Sale
DESCRIPTION:Smithville's Community-Wide Garage Sale   Saturday\, April 4\, 2026\n\n\n\nDownload the 2026 Spring CWGS Map HERE\n\n \n\nCommunity Wide Garage Sale is a rain or shine event.\n\n \n\nThe Garage Sale Map will be available after 3pm on Friday\, April 3\, 2026. Paper copies will be available on the front porch of the Chamber of Commerce. \n\n \n\nGet ready to treasure hunt! The Smithville Area Chamber of Commerce invites you to our Community-Wide Garage Sale on Saturday\, April 4\, 2026\, from 8 AM to 3 PM. This beloved semi-annual event (mark your calendar   the fall sale is October 3\, 2026!) draws a huge crowd\, with 50+ sales happening all over town. \n\n \n\nHow to Shop:\n\nStart your day by picking up a map at the Chamber front porch\, which will guide you to all the participating garage sales at private residences. Maps will be available beginning Friday\, April 3\, at 3 PM and will remain stocked on the Chamber front porch throughout the event day.\n\n \n\nInterested in Selling?\n\n \n\nHost at home: Get your sale on the map for just $15! (Payable in person or online.) \n\nDon't have a great location? Reserve a spot at Railroad Park for $15 and take advantage of downtown foot traffic. (Payable in person or online.)\n\n \n\nBoost your visibility! Rent a bold "Stop Here" yard sign for an extra $10 to direct shoppers your way. (Payable in person or online.) Signs will be available for pick-up starting Thursday\, April 2\, and must be returned by Monday\, April 6.\n\n \n\nDon't miss this fantastic opportunity to shop\, sell\, and explore Smithville! We can't wait to see you stomping around town on April 4! \n\n \n\nFor more information or to sign up\, contact the Smithville Area Chamber of Commerce.\n\nREGISTRATION WILL CLOSE ON MONDAY\, MARCH 30\, 2026 AT 4:00PM.  \n\n \n\nSTOP HERE SIGN PICK UP WILL BE FRIDAY\, APRIL 3\, FROM 10AM TO 4PM AT THE CHAMBER\n\n \n\nMAPS WILL BE ON THE CHAMBER PORCH BY 3PM ON FRIDAY\, APRIL 3\, 2026\n\n \n\nComplete the registration process online by:\n\n1) Pay by selecting Register \n\n2) Download the map HERE\, mark where your garage sale will be held\, then attach the map at the bottom of the online form which can be found at: http://business.smithvilletx.org/form/view/38848\n\n \n\nMaps can be picked up at the Chamber Office on Friday\, April 3rd after 3pm or can be downloaded by clicking this LINK. (Link will be added when garage sale maps are available online.)
X-ALT-DESC;FMTTYPE=text/html:<span style="font-size:16px\;"><strong><span style="font-family:times new roman\,serif\;">Smithville&rsquo\;s Community-Wide Garage Sale &ndash\; Saturday\, April 4\, 2026<br />\n<br />\nDownload the 2026 Spring CWGS Map <a href="https://chambermaster.blob.core.windows.net/userfiles/UserFiles/chambers/2762/File/My_folder/2026SpringCWGSMap.pdf">HERE</a></span></strong></span><br />\n&nbsp\;<br />\n<em><span style="font-size:14px\;"><span style="font-family:times new roman\,serif\;">Community Wide Garage Sale is a rain or shine event.</span></span></em><br />\n&nbsp\;<br />\n<span style="font-family:times new roman\,serif\;">The Garage Sale Map will be available after 3pm on Friday\, April 3\, 2026. Paper copies will be available on the front porch of the Chamber of Commerce. </span><br />\n&nbsp\;<br />\n<span style="font-size:14px\;"><span style="font-family:times new roman\,serif\;">Get ready to treasure hunt! The Smithville Area Chamber of Commerce invites you to our Community-Wide Garage Sale on Saturday\, April 4\, 2026\, from 8 AM to 3 PM. This beloved semi-annual event (mark your calendar &ndash\; the fall sale is October 3\, 2026!) draws a huge crowd\, with 50+ sales happening all over town.&nbsp\;</span><br />\n&nbsp\;</span><br />\n<span style="font-size:14px\;"><span style="font-family:times new roman\,serif\;">How to Shop:</span><br />\n<span style="font-family:times new roman\,serif\;">Start your day by picking up a map at the Chamber front porch\, which will guide you to all the participating garage sales at private residences. Maps will be available beginning Friday\, April 3\, at 3 PM and will remain stocked on the Chamber front porch throughout the event day.</span><br />\n&nbsp\;<br />\n<span style="font-family:times new roman\,serif\;">Interested in Selling?</span></span><br />\n&nbsp\;<br />\n<span style="font-size:14px\;"><span style="font-family:times new roman\,serif\;">Host at home: Get your sale on the map for just $15!&nbsp\;(Payable in person or online.) </span><br />\n<span style="font-family:times new roman\,serif\;">Don&rsquo\;t have a great location? Reserve a spot at Railroad Park for $15 and take advantage of downtown foot traffic. (Payable in person or online.)</span></span><br />\n&nbsp\;<br />\n<span style="font-size:14px\;"><span style="font-family:times new roman\,serif\;">Boost your visibility! Rent a bold &quot\;Stop Here&quot\; yard sign for an extra $10 to direct shoppers your way.&nbsp\;(Payable in person or online.) Signs will be available for pick-up starting Thursday\, April 2\, and must be returned by Monday\, April 6.</span><br />\n&nbsp\;<br />\n<span style="font-family:times new roman\,serif\;">Don&rsquo\;t miss this fantastic opportunity to shop\, sell\, and explore Smithville! We can&rsquo\;t wait to see you stomping around town on April 4!&nbsp\;</span></span><br />\n&nbsp\;<br />\n<span style="font-size:14px\;"><span style="font-family:times new roman\,serif\;">For more information or to sign up\, contact the Smithville Area Chamber of Commerce.</span><br />\n<span style="font-family:times new roman\,serif\;">REGISTRATION WILL CLOSE ON MONDAY\, MARCH 30\, 2026 AT 4:00PM.&nbsp\;&nbsp\;</span><br />\n&nbsp\;<br />\n<span style="font-family:times new roman\,serif\;">STOP HERE SIGN PICK UP WILL BE FRIDAY\, APRIL 3\, FROM 10AM TO 4PM AT THE CHAMBER</span><br />\n&nbsp\;<br />\n<span style="font-family:times new roman\,serif\;">MAPS WILL BE ON THE CHAMBER PORCH BY 3PM ON FRIDAY\, APRIL 3\, 2026</span></span><br />\n&nbsp\;<br />\n<span style="font-size:14px\;"><span style="font-family:times new roman\,serif\;">Complete the registration process online by:</span><br />\n<span style="font-family:times new roman\,serif\;">1) Pay by selecting Register&nbsp\;</span><br />\n<span style="font-family:times new roman\,serif\;">2) Download the map HERE\, mark where your garage sale will be held\, then attach the map at the bottom of the online form which can be found at:&nbsp\;</span></span>http://business.smithvilletx.org/form/view/38848<br />\n&nbsp\;<br />\n<em><span style="font-size:12px\;"><span style="font-family:times new roman\,serif\;">Maps can be picked up at the Chamber Office on Friday\, April 3rd after 3pm or can be downloaded by clicking this LINK. (Link will be added when garage sale maps are available online.)</span></span></em>
LOCATION:Individual's homes around town & Smithville Railroad Park
UID:e.2762.11982
SEQUENCE:3
DTSTAMP:20260424T042211Z
URL:https://business.smithvilletx.org/events/details/2026-spring-community-wide-garage-sale-11982
END:VEVENT

END:VCALENDAR
