BEGIN:VCALENDAR
VERSION:2.0
PRODID:-//ChamberMaster//Event Calendar 2.0//EN
METHOD:PUBLISH
X-PUBLISHED-TTL:P3D
REFRESH-INTERVAL:P3D
CALSCALE:GREGORIAN
BEGIN:VEVENT
DTSTART:20250507T161500Z
DTEND:20250507T180000Z
X-MICROSOFT-CDO-ALLDAYEVENT:FALSE
SUMMARY:2025 Chamber Luncheon - First Responders Appreciation
DESCRIPTION:Join us for the 27th Annual First Responders Appreciation Luncheon in Bastrop\, TX!\n\nJoin us the Annual First Responders Luncheon\, a tradition that began as a city of Bastrop banquet and expanded to a countywide appreciation luncheon following the Complex Fires of 2011. On May 7\, we will proudly honor our first responders from across Bastrop County for the 27th year.
X-ALT-DESC;FMTTYPE=text/html:<span style="box-sizing: border-box\; outline: 0px\; color: rgb(69\, 75\, 89)\; font-family: Lato\, sans-serif\; background-color: rgb(255\, 255\, 255)\; font-size: 28px\;">Join us for the 27th Annual First Responders Appreciation Luncheon in Bastrop\, TX!</span><br />\nJoin us&nbsp\;<span style="color: rgb(34\, 34\, 34)\; font-family: Arial\, Helvetica\, sans-serif\; font-size: 16px\; background-color: rgb(255\, 255\, 255)\;">the&nbsp\;</span><a data-saferedirecturl="https://www.google.com/url?q=https://us-west-2.protection.sophos.com?d%3Dbastropchamber.com%26u%3DaHR0cHM6Ly9idXNpbmVzcy5iYXN0cm9wY2hhbWJlci5jb20vZXZlbnRzL2RldGFpbHMvMjAyNS1jaGFtYmVyLWx1bmNoZW9uLWZpcnN0LXJlc3BvbmRlcnMtYXBwcmVjaWF0aW9uLTM4MDI1P2NhbGVuZGFyTW9udGg9MjAyNS0wNS0wMQ%3D%3D%26p%3Dm%26i%3DNjYwNDNhMDliOTkyM2YxZjQ3ODUxZWQ3%26t%3DNkZZaWtkL2xrZDVuNmZsZEhONndUNTgwcHQ1S21UMnVEbWowU3pQTmdrMD0%3D%26h%3D5a6e93ac42094ea9a65d317bb9858559%26s%3DAVNPUEhUT0NFTkNSWVBUSVbl7MuEYfzsJ1xhkPAMNhe9FRpMdmWor7iEWzcEfQ-B_g&amp\;source=gmail&amp\;ust=1741241389365000&amp\;usg=AOvVaw1rwLB50rmao0yCf0biMtAO" href="https://us-west-2.protection.sophos.com/?d=bastropchamber.com&amp\;u=aHR0cHM6Ly9idXNpbmVzcy5iYXN0cm9wY2hhbWJlci5jb20vZXZlbnRzL2RldGFpbHMvMjAyNS1jaGFtYmVyLWx1bmNoZW9uLWZpcnN0LXJlc3BvbmRlcnMtYXBwcmVjaWF0aW9uLTM4MDI1P2NhbGVuZGFyTW9udGg9MjAyNS0wNS0wMQ==&amp\;p=m&amp\;i=NjYwNDNhMDliOTkyM2YxZjQ3ODUxZWQ3&amp\;t=NkZZaWtkL2xrZDVuNmZsZEhONndUNTgwcHQ1S21UMnVEbWowU3pQTmdrMD0=&amp\;h=5a6e93ac42094ea9a65d317bb9858559&amp\;s=AVNPUEhUT0NFTkNSWVBUSVbl7MuEYfzsJ1xhkPAMNhe9FRpMdmWor7iEWzcEfQ-B_g" style="color: rgb(17\, 85\, 204)\; font-family: Arial\, Helvetica\, sans-serif\; font-size: 16px\; background-color: rgb(255\, 255\, 255)\;" target="_blank">Annual First Responders Luncheon</a><span style="color: rgb(34\, 34\, 34)\; font-family: Arial\, Helvetica\, sans-serif\; font-size: 16px\; background-color: rgb(255\, 255\, 255)\;">\, a tradition that began as a city of Bastrop banquet and expanded to a countywide appreciation luncheon following the Complex Fires of 2011. On May 7\, we will proudly honor our first responders from across Bastrop County for the 27th year.</span>
LOCATION:Bastrop Convention Center 1408 Chestnut St. Bastrop TX 78602
UID:e.2762.9195
SEQUENCE:3
DTSTAMP:20260422T063055Z
URL:https://business.smithvilletx.org/events/details/2025-chamber-luncheon-first-responders-appreciation-9195
END:VEVENT

END:VCALENDAR
