BEGIN:VCALENDAR
VERSION:2.0
PRODID:-//ChamberMaster//Event Calendar 2.0//EN
METHOD:PUBLISH
X-PUBLISHED-TTL:P3D
REFRESH-INTERVAL:P3D
CALSCALE:GREGORIAN
BEGIN:VEVENT
DTSTART:20250510T150000Z
DTEND:20250510T190000Z
X-MICROSOFT-CDO-ALLDAYEVENT:FALSE
SUMMARY:19th Annual Fly In
DESCRIPTION:Join us for a thrilling day of aviation fun at the 19th Annual Smithville Crawford Municipal Airport Fly-In! This family-friendly event is perfect for aviation enthusiasts of all ages.\n\n   See aircraft from all around vintage planes\, unique aircraft\, and more on display!\n\n  Helicopter rides available for purchase experience the sky like never before!\n\n  Delicious food available for purchase come hungry!\n\n  Candy drop for the kids a sweet aerial surprise!\n\nDon't miss this exciting community tradition\, brought to you by The Friends of 84R with support from the Smithville Area Chamber of Commerce.\n\n  Mark your calendars and bring the whole family out for a high-flying good time!\n\n\n\n*                    \,                             17  .
X-ALT-DESC;FMTTYPE=text/html:<p data-end="443" data-start="245">Join us for a <strong data-end="292" data-start="259">thrilling day of aviation fun</strong> at the <strong data-end="361" data-start="300">19th Annual Smithville Crawford Municipal Airport Fly-In!</strong> This <strong data-end="392" data-start="367">family-friendly event</strong> is perfect for aviation enthusiasts of all ages.</p>\n\n<p data-end="742" data-start="445">&#128745\;&#65039\; <strong data-end="481" data-start="449">See aircraft from all around</strong>&mdash\;vintage planes\, unique aircraft\, and more on display!<br data-end="538" data-start="535" />\n&#128641\; <strong data-end="584" data-start="541">Helicopter rides available for purchase</strong>&mdash\;experience the sky like never before!<br data-end="625" data-start="622" />\n&#127828\; <strong data-end="669" data-start="628">Delicious food available for purchase</strong>&mdash\;come hungry!<br data-end="685" data-start="682" />\n&#127852\; <strong data-end="715" data-start="688">Candy drop for the kids</strong>&mdash\;a sweet aerial surprise!</p>\n\n<p data-end="899" data-start="744">Don&#39\;t miss this exciting <strong data-end="792" data-start="769">community tradition</strong>\, brought to you by <strong data-end="834" data-start="812">The Friends of 84R</strong> with support from the <strong data-end="897" data-start="857">Smithville Area Chamber of Commerce.</strong></p>\n\n<p data-end="989" data-start="901">&#128226\; <strong data-end="987" data-start="904">Mark your calendars and bring the whole family out for a high-flying good time!</strong><br />\n<br />\n*&#119868\;&#119899\; &#119905\;&#8462\;&#119890\; &#119890\;&#119907\;&#119890\;&#119899\;&#119905\; &#119900\;&#119891\; &#119903\;&#119886\;&#119894\;&#119899\;\, &#119900\;&#119906\;&#119903\; &#119887\;&#119886\;&#119888\;&#119896\;&#119906\;&#119901\; &#119889\;&#119886\;&#119905\;&#119890\; &#119908\;&#119894\;&#119897\;&#119897\; &#119887\;&#119890\; &#119872\;&#119886\;&#119910\; 17&#119905\;&#8462\;.</p>\n
LOCATION:765 N W Loop 230 Smithville\, TX 78957
UID:e.2762.9186
SEQUENCE:3
DTSTAMP:20260422T041651Z
URL:https://business.smithvilletx.org/events/details/19th-annual-fly-in-9186
END:VEVENT

END:VCALENDAR
